BEGIN:VCALENDAR
VERSION:2.0
PRODID:icalendar-ruby
CALSCALE:GREGORIAN
METHOD:PUBLISH
BEGIN:VEVENT
DTSTAMP:20260421T185119Z
UID:6-500501@oakleychurch.org
DTSTART:20261021T190000Z
DTEND:20261021T200000Z
CLASS:PUBLIC
CREATED:20260421T131137
DESCRIPTION:Wednesday\, February 25\, 2026 - 3:00 PM
LAST-MODIFIED:20260421T131137
LOCATION:Oakley Community Church
SUMMARY:Wednesday Bible Study
URL;VALUE=URI:https://www.oakleychurch.org/events/wednesday-bible-study/202
 6-10-21
END:VEVENT
END:VCALENDAR
