BEGIN:VCALENDAR
VERSION:2.0
PRODID:icalendar-ruby
CALSCALE:GREGORIAN
METHOD:PUBLISH
BEGIN:VEVENT
DTSTAMP:20260421T222649Z
UID:5-501060@oakleychurch.org
DTSTART:20261101T153000Z
DTEND:20261101T163000Z
CLASS:PUBLIC
CREATED:20260421T182556
DESCRIPTION:Sunday Worship
LAST-MODIFIED:20260421T182556
LOCATION:
SUMMARY:Sunday Worship
URL;VALUE=URI:https://www.oakleychurch.org/events/sunday-worship/2026-11-01
END:VEVENT
END:VCALENDAR
