BEGIN:VCALENDAR
VERSION:2.0
PRODID:icalendar-ruby
CALSCALE:GREGORIAN
METHOD:PUBLISH
BEGIN:VEVENT
DTSTAMP:20260421T150918Z
UID:5-500164@oakleychurch.org
DTSTART:20260927T143000Z
DTEND:20260927T153000Z
CLASS:PUBLIC
CREATED:20260421T103207
DESCRIPTION:Sunday Worship
LAST-MODIFIED:20260421T103207
LOCATION:
SUMMARY:Sunday Worship
URL;VALUE=URI:https://www.oakleychurch.org/events/sunday-worship/2026-09-27
END:VEVENT
END:VCALENDAR
